BEGIN:VCALENDAR
VERSION:2.0
PRODID:-//Bluegrass Beverages - ECPv6.15.20//NONSGML v1.0//EN
CALSCALE:GREGORIAN
METHOD:PUBLISH
X-WR-CALNAME:Bluegrass Beverages
X-ORIGINAL-URL:https://bluegrassbeverages.com
X-WR-CALDESC:Events for Bluegrass Beverages
REFRESH-INTERVAL;VALUE=DURATION:PT1H
X-Robots-Tag:noindex
X-PUBLISHED-TTL:PT1H
BEGIN:VTIMEZONE
TZID:America/Chicago
BEGIN:DAYLIGHT
TZOFFSETFROM:-0600
TZOFFSETTO:-0500
TZNAME:CDT
DTSTART:20220313T080000
END:DAYLIGHT
BEGIN:STANDARD
TZOFFSETFROM:-0500
TZOFFSETTO:-0600
TZNAME:CST
DTSTART:20221106T070000
END:STANDARD
BEGIN:DAYLIGHT
TZOFFSETFROM:-0600
TZOFFSETTO:-0500
TZNAME:CDT
DTSTART:20230312T080000
END:DAYLIGHT
BEGIN:STANDARD
TZOFFSETFROM:-0500
TZOFFSETTO:-0600
TZNAME:CST
DTSTART:20231105T070000
END:STANDARD
BEGIN:DAYLIGHT
TZOFFSETFROM:-0600
TZOFFSETTO:-0500
TZNAME:CDT
DTSTART:20240310T080000
END:DAYLIGHT
BEGIN:STANDARD
TZOFFSETFROM:-0500
TZOFFSETTO:-0600
TZNAME:CST
DTSTART:20241103T070000
END:STANDARD
END:VTIMEZONE
BEGIN:VEVENT
DTSTART;TZID=America/Chicago:20230128T160000
DTEND;TZID=America/Chicago:20230128T190000
DTSTAMP:20260424T130119
CREATED:20230123T145749Z
LAST-MODIFIED:20230123T145749Z
UID:731-1674921600-1674932400@bluegrassbeverages.com
SUMMARY:Jose Cuervo Tradicional
DESCRIPTION:TRADITION IN EVERY BOTTLE.\nFor over 250 years\, Jose Cuervo® has been making tequila from the largest agave holdings in the world. The journey begins in the fields on the skirts of the Tequila Volcano. After seven years of maturation\, the agave plants are harvested and their cores\, or “piñas\,” are sent to the La Rojeña distillery. There\, they are roasted\, grinded\, and smashed. The resulting extract is placed into fermentation tanks. Finally\, it is distilled and aged to perfection in toasted barrels.
URL:https://bluegrassbeverages.com/event/jose-cuervo-tradicional/
ATTACH;FMTTYPE=image/jpeg:https://bluegrassbeverages.com/wp-content/uploads/2023/01/jose-cuervo-tradicional.jpg
END:VEVENT
END:VCALENDAR