BEGIN:VCALENDAR
VERSION:2.0
PRODID:-//Bluegrass Beverages - ECPv6.15.20//NONSGML v1.0//EN
CALSCALE:GREGORIAN
METHOD:PUBLISH
X-WR-CALNAME:Bluegrass Beverages
X-ORIGINAL-URL:https://bluegrassbeverages.com
X-WR-CALDESC:Events for Bluegrass Beverages
REFRESH-INTERVAL;VALUE=DURATION:PT1H
X-Robots-Tag:noindex
X-PUBLISHED-TTL:PT1H
BEGIN:VTIMEZONE
TZID:America/Chicago
BEGIN:DAYLIGHT
TZOFFSETFROM:-0600
TZOFFSETTO:-0500
TZNAME:CDT
DTSTART:20230312T080000
END:DAYLIGHT
BEGIN:STANDARD
TZOFFSETFROM:-0500
TZOFFSETTO:-0600
TZNAME:CST
DTSTART:20231105T070000
END:STANDARD
BEGIN:DAYLIGHT
TZOFFSETFROM:-0600
TZOFFSETTO:-0500
TZNAME:CDT
DTSTART:20240310T080000
END:DAYLIGHT
BEGIN:STANDARD
TZOFFSETFROM:-0500
TZOFFSETTO:-0600
TZNAME:CST
DTSTART:20241103T070000
END:STANDARD
BEGIN:DAYLIGHT
TZOFFSETFROM:-0600
TZOFFSETTO:-0500
TZNAME:CDT
DTSTART:20250309T080000
END:DAYLIGHT
BEGIN:STANDARD
TZOFFSETFROM:-0500
TZOFFSETTO:-0600
TZNAME:CST
DTSTART:20251102T070000
END:STANDARD
END:VTIMEZONE
BEGIN:VEVENT
DTSTART;TZID=America/Chicago:20240413T150000
DTEND;TZID=America/Chicago:20240413T180000
DTSTAMP:20260419T084058
CREATED:20230926T142201Z
LAST-MODIFIED:20240410T153105Z
UID:1069-1713020400-1713031200@bluegrassbeverages.com
SUMMARY:Woodinville Whiskey
DESCRIPTION:The story of Woodinville doesn’t begin with a 100-year-old recipe or generations of family distillers. It begins with two best friends and a dream. \nThe dream is to make the greatest craft whiskey in the world by bringing the time-honored traditions of bourbon production into a craft environment — using the highest quality locally grown grains\, the best barrels and coopers in the world\, the most technologically advanced distilling equipment\, and the mentorship of an industry icon\, David Pickerell\, former Master Distiller for Maker’s Mark. \nAnd while the story is still unfolding\, after being awarded “Craft Whiskey of the Year” and “Craft Rye Whiskey of the Year” two years in a row by the American Distilling Institute\, things are headed in the right direction.
URL:https://bluegrassbeverages.com/event/woodinville-whiskey/
ATTACH;FMTTYPE=image/jpeg:https://bluegrassbeverages.com/wp-content/uploads/2023/09/Woodinville.jpg
END:VEVENT
END:VCALENDAR