BEGIN:VCALENDAR
VERSION:2.0
PRODID:-//Bluegrass Beverages - ECPv6.15.20//NONSGML v1.0//EN
CALSCALE:GREGORIAN
METHOD:PUBLISH
X-WR-CALNAME:Bluegrass Beverages
X-ORIGINAL-URL:https://bluegrassbeverages.com
X-WR-CALDESC:Events for Bluegrass Beverages
REFRESH-INTERVAL;VALUE=DURATION:PT1H
X-Robots-Tag:noindex
X-PUBLISHED-TTL:PT1H
BEGIN:VTIMEZONE
TZID:America/Chicago
BEGIN:DAYLIGHT
TZOFFSETFROM:-0600
TZOFFSETTO:-0500
TZNAME:CDT
DTSTART:20250309T080000
END:DAYLIGHT
BEGIN:STANDARD
TZOFFSETFROM:-0500
TZOFFSETTO:-0600
TZNAME:CST
DTSTART:20251102T070000
END:STANDARD
BEGIN:DAYLIGHT
TZOFFSETFROM:-0600
TZOFFSETTO:-0500
TZNAME:CDT
DTSTART:20260308T080000
END:DAYLIGHT
BEGIN:STANDARD
TZOFFSETFROM:-0500
TZOFFSETTO:-0600
TZNAME:CST
DTSTART:20261101T070000
END:STANDARD
BEGIN:DAYLIGHT
TZOFFSETFROM:-0600
TZOFFSETTO:-0500
TZNAME:CDT
DTSTART:20270314T080000
END:DAYLIGHT
BEGIN:STANDARD
TZOFFSETFROM:-0500
TZOFFSETTO:-0600
TZNAME:CST
DTSTART:20271107T070000
END:STANDARD
END:VTIMEZONE
BEGIN:VEVENT
DTSTART;TZID=America/Chicago:20260417T150000
DTEND;TZID=America/Chicago:20260417T180000
DTSTAMP:20260419T081952
CREATED:20250811T171300Z
LAST-MODIFIED:20260413T151015Z
UID:1649-1776438000-1776448800@bluegrassbeverages.com
SUMMARY:Senorita THC Drink
DESCRIPTION:Joel Gott and Charles Bieler – two best friends and industry legends who’ve been making wine together since 2002. After decades of swirling\, sniffing\, and sipping\, they turned their attention to something new: the margarita. But not just any margarita. \nIn 2022\, they started experimenting with Mexican agave\, fresh citrus\, and hemp-derived THC – and what came out of the can wasn’t just refreshing\, it was revolutionary. \nToday\, Señorita is the #1 THC margarita in the country – and yes\, it still comes with their signature attention to detail (and a touch of pink salt). \nThis is what the next generation of drinking looks like.
URL:https://bluegrassbeverages.com/event/senorita-thc-drink/
ATTACH;FMTTYPE=image/webp:https://bluegrassbeverages.com/wp-content/uploads/2025/08/Senorita.webp
END:VEVENT
END:VCALENDAR