BEGIN:VCALENDAR
VERSION:2.0
PRODID:-//Bluegrass Beverages - ECPv6.15.20//NONSGML v1.0//EN
CALSCALE:GREGORIAN
METHOD:PUBLISH
X-WR-CALNAME:Bluegrass Beverages
X-ORIGINAL-URL:https://bluegrassbeverages.com
X-WR-CALDESC:Events for Bluegrass Beverages
REFRESH-INTERVAL;VALUE=DURATION:PT1H
X-Robots-Tag:noindex
X-PUBLISHED-TTL:PT1H
BEGIN:VTIMEZONE
TZID:America/Chicago
BEGIN:DAYLIGHT
TZOFFSETFROM:-0600
TZOFFSETTO:-0500
TZNAME:CDT
DTSTART:20210314T080000
END:DAYLIGHT
BEGIN:STANDARD
TZOFFSETFROM:-0500
TZOFFSETTO:-0600
TZNAME:CST
DTSTART:20211107T070000
END:STANDARD
BEGIN:DAYLIGHT
TZOFFSETFROM:-0600
TZOFFSETTO:-0500
TZNAME:CDT
DTSTART:20220313T080000
END:DAYLIGHT
BEGIN:STANDARD
TZOFFSETFROM:-0500
TZOFFSETTO:-0600
TZNAME:CST
DTSTART:20221106T070000
END:STANDARD
BEGIN:DAYLIGHT
TZOFFSETFROM:-0600
TZOFFSETTO:-0500
TZNAME:CDT
DTSTART:20230312T080000
END:DAYLIGHT
BEGIN:STANDARD
TZOFFSETFROM:-0500
TZOFFSETTO:-0600
TZNAME:CST
DTSTART:20231105T070000
END:STANDARD
END:VTIMEZONE
BEGIN:VEVENT
DTSTART;TZID=America/Chicago:20221209T150000
DTEND;TZID=America/Chicago:20221209T170000
DTSTAMP:20260424T130813
CREATED:20221202T151344Z
LAST-MODIFIED:20221202T151344Z
UID:672-1670598000-1670605200@bluegrassbeverages.com
SUMMARY:Oyster Bay Pinot Gris and Sauvignon Blanc
DESCRIPTION:In a relatively short space of time\, New Zealand has risen to become one of the world’s great wine producing nations. From New York to Sydney to London and beyond we are enormously proud Oyster Bay is one of the most loved and sought after wines internationally. From the moment we released our first vintage in 1990\, winning Gold and the coveted Marquis de Goulaine Trophy for ‘Best Sauvignon Blanc in the world’\, we knew. Blessed with the natural advantages of New Zealand’s maritime cool climate and ancient alluvial soils\, Oyster Bay continues to capture the essence of New Zealand’s cool climate viticulture with our world-class range of elegant and assertive wines with glorious fruit flavors. \nPinot Gris – Delightfully fragrant summer florals with subtle spice and refreshing citrus. \nSauvignon Blanc – Stunningly aromatic tropical fruits and bright citrus notes\, with a refreshingly zesty finish. \nStop by and try them Both.
URL:https://bluegrassbeverages.com/event/oyster-bay-pinot-gris-and-sauvignon-blanc/
ATTACH;FMTTYPE=image/jpeg:https://bluegrassbeverages.com/wp-content/uploads/2022/12/Oystr-bay-Pinot-Gris-scaled.jpg
END:VEVENT
BEGIN:VEVENT
DTSTART;TZID=America/Chicago:20221209T160000
DTEND;TZID=America/Chicago:20221209T190000
DTSTAMP:20260424T130813
CREATED:20221202T151024Z
LAST-MODIFIED:20221202T151024Z
UID:670-1670601600-1670612400@bluegrassbeverages.com
SUMMARY:Truly Seltzer Holiday
DESCRIPTION:WHAT’S IN THE CAN?\nGood question. The short answer? A whole lot. Inside every can of Truly is a fresh adventure just waiting to be opened (also plenty of seltzer). That’s because you never know where your next sip will take you. Maybe a boat. Maybe a bar crawl. Maybe boarding a flight to that secluded island off the coast of Croatia you always thought about going to — you know\, the one with the bottomless seafood buffet? Yeah\, you know. \nHard Seltzer – 5.0% ABV. Celebrate the season with TRULY’s new limited edition holiday mix pack! This festive pack features a variety of flavors inspired by your favorite holiday cocktails. Get in the spirit with TRULY holiday hard seltzers!
URL:https://bluegrassbeverages.com/event/truly-seltzer-holiday/
ATTACH;FMTTYPE=image/jpeg:https://bluegrassbeverages.com/wp-content/uploads/2022/12/Truly-Hard-Seltzer_Holiday-Party-Pack_2021-1.jpg
END:VEVENT
BEGIN:VEVENT
DTSTART;TZID=America/Chicago:20221210T153000
DTEND;TZID=America/Chicago:20221210T180000
DTSTAMP:20260424T130813
CREATED:20221202T151630Z
LAST-MODIFIED:20221202T151630Z
UID:674-1670686200-1670695200@bluegrassbeverages.com
SUMMARY:Crown Royal Peach
DESCRIPTION:Crown Royal Peach Flavored Whisky is a new Limited Edition from Crown Royal\, bringing some juicy sweetness to your summer season. To create this extraordinary blend\, Crown Royal whiskies are carefully selected by our master blender and infused with the juicy flavor of fresh Georgia peaches. The result is a vibrantly delicious whisky\, bursting with the luscious flavor of peach and the distinctive smoothness of Crown Royal.
URL:https://bluegrassbeverages.com/event/crown-royal-peach/
ATTACH;FMTTYPE=image/jpeg:https://bluegrassbeverages.com/wp-content/uploads/2022/12/crown-royal-peach.jpg
END:VEVENT
BEGIN:VEVENT
DTSTART;TZID=America/Chicago:20221223T150000
DTEND;TZID=America/Chicago:20221223T170000
DTSTAMP:20260424T130813
CREATED:20221220T135050Z
LAST-MODIFIED:20221220T135050Z
UID:695-1671807600-1671814800@bluegrassbeverages.com
SUMMARY:Imagery Pinot Noir And Chardonnay
DESCRIPTION:Imagery Estate Winery was forged from a thirst for experimentation\, dedicated to crafting rare wines from uncommon varietals and character-rich vineyards. We shine the spotlight on interesting varietals that are all too often swallowed up in big blends. Worldly wines like Malbec\, Tempranillo\, and Lagrein will broaden the horizon of anyone\, from aspiring wino to seasoned connoisseur. \nJoin us for a taste of Pinot Noir and Chardonnay. Great wines for the Holidays\, to gift or enjoy yourself.
URL:https://bluegrassbeverages.com/event/imagery-pinot-noir-and-chardonnay/
ATTACH;FMTTYPE=image/jpeg:https://bluegrassbeverages.com/wp-content/uploads/2022/12/Imagery-Wine.jpg
END:VEVENT
BEGIN:VEVENT
DTSTART;TZID=America/Chicago:20221223T150000
DTEND;TZID=America/Chicago:20221223T170000
DTSTAMP:20260424T130813
CREATED:20221220T135612Z
LAST-MODIFIED:20221220T135612Z
UID:697-1671807600-1671814800@bluegrassbeverages.com
SUMMARY:Santa Margherita Prosecco
DESCRIPTION:Count Gaetano Marzotto dreamed of people\, nature\, and technology working in synergy. He was a visionary\, as agriculture had yet to be mechanized. In 1935\, his dream came to life when he began revitalizing an abandoned parcel of land in the Venetian countryside. He chose the location well — this had been a region of fine vineyards since Roman times. He would bring it back to its former glory\, employing new agricultural science and honoring his commitment to the needs of the locals. Such an inspirational place could only bear one name — that of his one true love\, his wife Margherita. And so Santa Margherita was born where alpine rivers cut through sun-drenched hills on their winding journey to the Mediterranean. \nJoin us for the taste of this bubbly favorite creates a celebration whenever it is enjoyed and is the ideal accompaniment to a lively dinner. Its aroma\, freshness\, and vibrancy make it a treasure that you will want to share again and again. Prosecco Superiore makes any gathering a memorable occasion.
URL:https://bluegrassbeverages.com/event/santa-margherita-prosecco/
ATTACH;FMTTYPE=image/jpeg:https://bluegrassbeverages.com/wp-content/uploads/2022/12/santa-margherita-prosecco-scaled-1.jpg
END:VEVENT
BEGIN:VEVENT
DTSTART;TZID=America/Chicago:20221223T150000
DTEND;TZID=America/Chicago:20221223T170000
DTSTAMP:20260424T130813
CREATED:20221220T220136Z
LAST-MODIFIED:20221220T220136Z
UID:699-1671807600-1671814800@bluegrassbeverages.com
SUMMARY:Georges Duboeuf Beaujolais Nouveau 2022
DESCRIPTION:The 2022 Georges Duboeuf Beaujolais Nouveau displays a brilliant garnet color with purple reflections. It offers fresh aromas of black cherries and blackberries\, as well as a dense texture\, and an admirable richness. Refreshing\, fruity and supple on the palate\, this vintage is a perfect expression of Nouveau.
URL:https://bluegrassbeverages.com/event/georges-duboeuf-beaujolais-nouveau-2022/
ATTACH;FMTTYPE=image/jpeg:https://bluegrassbeverages.com/wp-content/uploads/2022/12/Georges-Dubceuf.jpg
END:VEVENT
BEGIN:VEVENT
DTSTART;TZID=America/Chicago:20221230T153000
DTEND;TZID=America/Chicago:20221230T183000
DTSTAMP:20260424T130813
CREATED:20221227T131824Z
LAST-MODIFIED:20221227T131824Z
UID:702-1672414200-1672425000@bluegrassbeverages.com
SUMMARY:Smirnoff Infusions
DESCRIPTION:EFFORTLESS. INNOCENT. SMOOTH.\n\nSmirnoff No.21 Premium Vodka is the number one best-selling premium vodka in the world with countless years of heritage and unmatched quality sold in over 130 countries. Our products are exceptionally pure-tasting and smooth with a wide range of flavors to taste. Prepare to choose from a variety of Smirnoff Spirits and Smirnoff Ready To Drink products. From memorable Smirnoff Mules\, to the classic Smirnoff Cosmopolitan to even the bold Smirnoff Bloody Mary\, at Smirnoff\, we have a drink for every occasion. \nSmirnoff Zero Sugar Infusions feature 100% flavor and zero sugar. Try our Zero Sugar flavors in Cucumber & Lime\, Watermelon & Mint\, Lemon & Elderflower and Strawberry & Rose.
URL:https://bluegrassbeverages.com/event/smirnoff-infusions/
ATTACH;FMTTYPE=image/jpeg:https://bluegrassbeverages.com/wp-content/uploads/2022/12/Smirnoff-infusions.jpg
END:VEVENT
END:VCALENDAR